BEGIN:VCALENDAR
VERSION:2.0
PRODID:-//River Oaks Golf Club - ECPv6.0.4//NONSGML v1.0//EN
CALSCALE:GREGORIAN
METHOD:PUBLISH
X-WR-CALNAME:River Oaks Golf Club
X-ORIGINAL-URL:http://riveroaks-golfclub.com
X-WR-CALDESC:Events for River Oaks Golf Club
REFRESH-INTERVAL;VALUE=DURATION:PT1H
X-Robots-Tag:noindex
X-PUBLISHED-TTL:PT1H
BEGIN:VTIMEZONE
TZID:UTC
BEGIN:STANDARD
TZOFFSETFROM:+0000
TZOFFSETTO:+0000
TZNAME:UTC
DTSTART:20250101T000000
END:STANDARD
END:VTIMEZONE
BEGIN:VEVENT
DTSTART;TZID=UTC:20250607T110000
DTEND;TZID=UTC:20250607T180000
DTSTAMP:20260423T100033
CREATED:20241205T195946Z
LAST-MODIFIED:20241205T200159Z
UID:290808-1749294000-1749319200@riveroaks-golfclub.com
SUMMARY:Ladies Member-Member
DESCRIPTION:Sorry\, but you do not have permission to view this content. \nIf you are a member\, please feel free to use the sidebar login to access the members area
URL:http://riveroaks-golfclub.com/events/ladies-member-member-9/
END:VEVENT
BEGIN:VEVENT
DTSTART;TZID=UTC:20250620T110000
DTEND;TZID=UTC:20250620T190000
DTSTAMP:20260423T100033
CREATED:20241205T200242Z
LAST-MODIFIED:20241205T200256Z
UID:290810-1750417200-1750446000@riveroaks-golfclub.com
SUMMARY:Men's Member-Member Rd. 1
DESCRIPTION:Sorry\, but you do not have permission to view this content. \nIf you are a member\, please feel free to use the sidebar login to access the members area
URL:http://riveroaks-golfclub.com/events/mens-member-member-7/
END:VEVENT
BEGIN:VEVENT
DTSTART;TZID=UTC:20250621T090000
DTEND;TZID=UTC:20250621T170000
DTSTAMP:20260423T100033
CREATED:20241205T200347Z
LAST-MODIFIED:20241205T200354Z
UID:290813-1750496400-1750525200@riveroaks-golfclub.com
SUMMARY:Men's Member-Member Rd. 2
DESCRIPTION:Sorry\, but you do not have permission to view this content. \nIf you are a member\, please feel free to use the sidebar login to access the members area
URL:http://riveroaks-golfclub.com/events/mens-member-member-rd-2-3/
END:VEVENT
END:VCALENDAR