BEGIN:VCALENDAR
VERSION:2.0
PRODID:-//River Oaks Golf Club - ECPv6.0.4//NONSGML v1.0//EN
CALSCALE:GREGORIAN
METHOD:PUBLISH
X-ORIGINAL-URL:http://riveroaks-golfclub.com
X-WR-CALDESC:Events for River Oaks Golf Club
REFRESH-INTERVAL;VALUE=DURATION:PT1H
X-Robots-Tag:noindex
X-PUBLISHED-TTL:PT1H
BEGIN:VTIMEZONE
TZID:UTC
BEGIN:STANDARD
TZOFFSETFROM:+0000
TZOFFSETTO:+0000
TZNAME:UTC
DTSTART:20250101T000000
END:STANDARD
END:VTIMEZONE
BEGIN:VEVENT
DTSTART;TZID=UTC:20250315T080000
DTEND;TZID=UTC:20250315T170000
DTSTAMP:20260425T105958
CREATED:20250315T184337Z
LAST-MODIFIED:20250315T184348Z
UID:290901-1742025600-1742058000@riveroaks-golfclub.com
SUMMARY:ISLAND LANES
DESCRIPTION:Sorry\, but you do not have permission to view this content. \nIf you are a member\, please feel free to use the sidebar login to access the members area
URL:http://riveroaks-golfclub.com/events/island-lanes/
END:VEVENT
BEGIN:VEVENT
DTSTART;TZID=UTC:20250315T080000
DTEND;TZID=UTC:20250315T170000
DTSTAMP:20260425T105958
CREATED:20250315T184605Z
LAST-MODIFIED:20250315T184658Z
UID:290903-1742025600-1742058000@riveroaks-golfclub.com
SUMMARY:Island Lanes
DESCRIPTION:Sorry\, but you do not have permission to view this content. \nIf you are a member\, please feel free to use the sidebar login to access the members area
URL:http://riveroaks-golfclub.com/events/island-lanes-2/
END:VEVENT
END:VCALENDAR