BEGIN:VCALENDAR
VERSION:2.0
PRODID:-//River Oaks Golf Club - ECPv6.0.4//NONSGML v1.0//EN
CALSCALE:GREGORIAN
METHOD:PUBLISH
X-ORIGINAL-URL:http://riveroaks-golfclub.com
X-WR-CALDESC:Events for River Oaks Golf Club
REFRESH-INTERVAL;VALUE=DURATION:PT1H
X-Robots-Tag:noindex
X-PUBLISHED-TTL:PT1H
BEGIN:VTIMEZONE
TZID:UTC
BEGIN:STANDARD
TZOFFSETFROM:+0000
TZOFFSETTO:+0000
TZNAME:UTC
DTSTART:20250101T000000
END:STANDARD
END:VTIMEZONE
BEGIN:VEVENT
DTSTART;TZID=UTC:20250815T080000
DTEND;TZID=UTC:20250815T160000
DTSTAMP:20260419T185242
CREATED:20241205T201858Z
LAST-MODIFIED:20241205T201905Z
UID:290831-1755244800-1755273600@riveroaks-golfclub.com
SUMMARY:Ladies Guest Day
DESCRIPTION:Sorry\, but you do not have permission to view this content. \nIf you are a member\, please feel free to use the sidebar login to access the members area
URL:http://riveroaks-golfclub.com/events/ladies-guest-day-9/
END:VEVENT
BEGIN:VEVENT
DTSTART;TZID=UTC:20250816T113000
DTEND;TZID=UTC:20250816T180000
DTSTAMP:20260419T185242
CREATED:20241205T201946Z
LAST-MODIFIED:20241205T202013Z
UID:290833-1755343800-1755367200@riveroaks-golfclub.com
SUMMARY:Couples Championship
DESCRIPTION:Sorry\, but you do not have permission to view this content. \nIf you are a member\, please feel free to use the sidebar login to access the members area
URL:http://riveroaks-golfclub.com/events/couples-championship-9/
END:VEVENT
BEGIN:VEVENT
DTSTART;TZID=UTC:20250827T160000
DTEND;TZID=UTC:20250827T173000
DTSTAMP:20260419T185242
CREATED:20241205T202049Z
LAST-MODIFIED:20241205T202057Z
UID:290835-1756310400-1756315800@riveroaks-golfclub.com
SUMMARY:Ladies League Ends
DESCRIPTION:Sorry\, but you do not have permission to view this content. \nIf you are a member\, please feel free to use the sidebar login to access the members area
URL:http://riveroaks-golfclub.com/events/ladies-league-ends-5/
END:VEVENT
BEGIN:VEVENT
DTSTART;TZID=UTC:20250828T123000
DTEND;TZID=UTC:20250828T180000
DTSTAMP:20260419T185242
CREATED:20241205T202143Z
LAST-MODIFIED:20241205T202150Z
UID:290838-1756384200-1756404000@riveroaks-golfclub.com
SUMMARY:Men's League Ends
DESCRIPTION:Sorry\, but you do not have permission to view this content. \nIf you are a member\, please feel free to use the sidebar login to access the members area
URL:http://riveroaks-golfclub.com/events/mens-league-ends-5/
END:VEVENT
BEGIN:VEVENT
DTSTART;TZID=UTC:20250906T100000
DTEND;TZID=UTC:20250906T180000
DTSTAMP:20260419T185242
CREATED:20241205T202345Z
LAST-MODIFIED:20241205T202353Z
UID:290840-1757152800-1757181600@riveroaks-golfclub.com
SUMMARY:Fall Member-Guest
DESCRIPTION:Sorry\, but you do not have permission to view this content. \nIf you are a member\, please feel free to use the sidebar login to access the members area
URL:http://riveroaks-golfclub.com/events/fall-member-guest-8/
END:VEVENT
BEGIN:VEVENT
DTSTART;TZID=UTC:20250918T180000
DTEND;TZID=UTC:20250918T200000
DTSTAMP:20260419T185242
CREATED:20241205T202442Z
LAST-MODIFIED:20241205T202450Z
UID:290842-1758218400-1758225600@riveroaks-golfclub.com
SUMMARY:Men's League Banquet
DESCRIPTION:Sorry\, but you do not have permission to view this content. \nIf you are a member\, please feel free to use the sidebar login to access the members area
URL:http://riveroaks-golfclub.com/events/mens-league-banquet-5/
END:VEVENT
BEGIN:VEVENT
DTSTART;TZID=UTC:20250920T110000
DTEND;TZID=UTC:20250920T173000
DTSTAMP:20260419T185242
CREATED:20241205T202535Z
LAST-MODIFIED:20241205T202649Z
UID:290844-1758366000-1758389400@riveroaks-golfclub.com
SUMMARY:Ladies Closing Day
DESCRIPTION:Sorry\, but you do not have permission to view this content. \nIf you are a member\, please feel free to use the sidebar login to access the members area
URL:http://riveroaks-golfclub.com/events/ladies-closing-day-9/
END:VEVENT
BEGIN:VEVENT
DTSTART;TZID=UTC:20251004T100000
DTEND;TZID=UTC:20251004T180000
DTSTAMP:20260419T185242
CREATED:20241205T202816Z
LAST-MODIFIED:20241205T203907Z
UID:290846-1759572000-1759600800@riveroaks-golfclub.com
SUMMARY:Roger's Revenge
DESCRIPTION:Sorry\, but you do not have permission to view this content. \nIf you are a member\, please feel free to use the sidebar login to access the members area
URL:http://riveroaks-golfclub.com/events/rogers-revenge-9/
END:VEVENT
END:VCALENDAR