BEGIN:VCALENDAR
VERSION:2.0
PRODID:-//River Oaks Golf Club - ECPv6.0.4//NONSGML v1.0//EN
CALSCALE:GREGORIAN
METHOD:PUBLISH
X-ORIGINAL-URL:http://riveroaks-golfclub.com
X-WR-CALDESC:Events for River Oaks Golf Club
REFRESH-INTERVAL;VALUE=DURATION:PT1H
X-Robots-Tag:noindex
X-PUBLISHED-TTL:PT1H
BEGIN:VTIMEZONE
TZID:UTC
BEGIN:STANDARD
TZOFFSETFROM:+0000
TZOFFSETTO:+0000
TZNAME:UTC
DTSTART:20250101T000000
END:STANDARD
END:VTIMEZONE
BEGIN:VEVENT
DTSTART;TZID=UTC:20250503T100000
DTEND;TZID=UTC:20250503T173000
DTSTAMP:20260421T103243
CREATED:20241205T195551Z
LAST-MODIFIED:20241205T195559Z
UID:290802-1746266400-1746293400@riveroaks-golfclub.com
SUMMARY:Opening Day Tournament
DESCRIPTION:Sorry\, but you do not have permission to view this content. \nIf you are a member\, please feel free to use the sidebar login to access the members area
URL:http://riveroaks-golfclub.com/events/opening-day-tournament-9/
END:VEVENT
END:VCALENDAR